BEGIN:VCALENDAR
VERSION:2.0
PRODID:-//Holy Trinity School - ECPv6.15.17.1//NONSGML v1.0//EN
CALSCALE:GREGORIAN
METHOD:PUBLISH
X-WR-CALNAME:Holy Trinity School
X-ORIGINAL-URL:https://www.holytrinityschoolelcajon.com
X-WR-CALDESC:Events for Holy Trinity School
REFRESH-INTERVAL;VALUE=DURATION:PT1H
X-Robots-Tag:noindex
X-PUBLISHED-TTL:PT1H
BEGIN:VTIMEZONE
TZID:America/Los_Angeles
BEGIN:DAYLIGHT
TZOFFSETFROM:-0800
TZOFFSETTO:-0700
TZNAME:PDT
DTSTART:20240310T100000
END:DAYLIGHT
BEGIN:STANDARD
TZOFFSETFROM:-0700
TZOFFSETTO:-0800
TZNAME:PST
DTSTART:20241103T090000
END:STANDARD
BEGIN:DAYLIGHT
TZOFFSETFROM:-0800
TZOFFSETTO:-0700
TZNAME:PDT
DTSTART:20250309T100000
END:DAYLIGHT
BEGIN:STANDARD
TZOFFSETFROM:-0700
TZOFFSETTO:-0800
TZNAME:PST
DTSTART:20251102T090000
END:STANDARD
BEGIN:DAYLIGHT
TZOFFSETFROM:-0800
TZOFFSETTO:-0700
TZNAME:PDT
DTSTART:20260308T100000
END:DAYLIGHT
BEGIN:STANDARD
TZOFFSETFROM:-0700
TZOFFSETTO:-0800
TZNAME:PST
DTSTART:20261101T090000
END:STANDARD
END:VTIMEZONE
BEGIN:VEVENT
DTSTART;VALUE=DATE:20250921
DTEND;VALUE=DATE:20250922
DTSTAMP:20260422T180220
CREATED:20250820T171030Z
LAST-MODIFIED:20250820T171030Z
UID:10000358-1758412800-1758499199@www.holytrinityschoolelcajon.com
SUMMARY:Kids Choir
DESCRIPTION:
URL:https://www.holytrinityschoolelcajon.com/event/kids-choir
END:VEVENT
BEGIN:VEVENT
DTSTART;VALUE=DATE:20250921
DTEND;VALUE=DATE:20250922
DTSTAMP:20260422T180220
CREATED:20250820T171148Z
LAST-MODIFIED:20250820T171148Z
UID:10000359-1758412800-1758499199@www.holytrinityschoolelcajon.com
SUMMARY:Mass 8th Grade and TK
DESCRIPTION:
URL:https://www.holytrinityschoolelcajon.com/event/mass-8th-grade-and-tk
END:VEVENT
BEGIN:VEVENT
DTSTART;VALUE=DATE:20250921
DTEND;VALUE=DATE:20250922
DTSTAMP:20260422T180220
CREATED:20250820T171310Z
LAST-MODIFIED:20250820T171310Z
UID:10000360-1758412800-1758499199@www.holytrinityschoolelcajon.com
SUMMARY:Catechetical Sunday
DESCRIPTION:
URL:https://www.holytrinityschoolelcajon.com/event/catechetical-sunday
END:VEVENT
END:VCALENDAR