BEGIN:VCALENDAR
VERSION:2.0
PRODID:-//Holy Trinity School - ECPv6.15.17.1//NONSGML v1.0//EN
CALSCALE:GREGORIAN
METHOD:PUBLISH
X-WR-CALNAME:Holy Trinity School
X-ORIGINAL-URL:https://www.holytrinityschoolelcajon.com
X-WR-CALDESC:Events for Holy Trinity School
REFRESH-INTERVAL;VALUE=DURATION:PT1H
X-Robots-Tag:noindex
X-PUBLISHED-TTL:PT1H
BEGIN:VTIMEZONE
TZID:America/Los_Angeles
BEGIN:DAYLIGHT
TZOFFSETFROM:-0800
TZOFFSETTO:-0700
TZNAME:PDT
DTSTART:20250309T100000
END:DAYLIGHT
BEGIN:STANDARD
TZOFFSETFROM:-0700
TZOFFSETTO:-0800
TZNAME:PST
DTSTART:20251102T090000
END:STANDARD
BEGIN:DAYLIGHT
TZOFFSETFROM:-0800
TZOFFSETTO:-0700
TZNAME:PDT
DTSTART:20260308T100000
END:DAYLIGHT
BEGIN:STANDARD
TZOFFSETFROM:-0700
TZOFFSETTO:-0800
TZNAME:PST
DTSTART:20261101T090000
END:STANDARD
BEGIN:DAYLIGHT
TZOFFSETFROM:-0800
TZOFFSETTO:-0700
TZNAME:PDT
DTSTART:20270314T100000
END:DAYLIGHT
BEGIN:STANDARD
TZOFFSETFROM:-0700
TZOFFSETTO:-0800
TZNAME:PST
DTSTART:20271107T090000
END:STANDARD
END:VTIMEZONE
BEGIN:VEVENT
DTSTART;VALUE=DATE:20260423
DTEND;VALUE=DATE:20260424
DTSTAMP:20260423T103222
CREATED:20250818T201756Z
LAST-MODIFIED:20250818T201756Z
UID:10000174-1776902400-1776988799@www.holytrinityschoolelcajon.com
SUMMARY:Hawk Pride
DESCRIPTION:
URL:https://www.holytrinityschoolelcajon.com/event/hawk-pride-3/2026-04-23
END:VEVENT
BEGIN:VEVENT
DTSTART;TZID=America/Los_Angeles:20260423T093000
DTEND;TZID=America/Los_Angeles:20260423T093000
DTSTAMP:20260423T103222
CREATED:20250819T181303Z
LAST-MODIFIED:20250819T181305Z
UID:10000304-1776936600-1776936600@www.holytrinityschoolelcajon.com
SUMMARY:Rosary
DESCRIPTION:
URL:https://www.holytrinityschoolelcajon.com/event/adoration-9
END:VEVENT
END:VCALENDAR