BEGIN:VCALENDAR
VERSION:2.0
PRODID:-//Holy Trinity School - ECPv6.15.17.1//NONSGML v1.0//EN
CALSCALE:GREGORIAN
METHOD:PUBLISH
X-WR-CALNAME:Holy Trinity School
X-ORIGINAL-URL:https://www.holytrinityschoolelcajon.com
X-WR-CALDESC:Events for Holy Trinity School
REFRESH-INTERVAL;VALUE=DURATION:PT1H
X-Robots-Tag:noindex
X-PUBLISHED-TTL:PT1H
BEGIN:VTIMEZONE
TZID:America/Los_Angeles
BEGIN:DAYLIGHT
TZOFFSETFROM:-0800
TZOFFSETTO:-0700
TZNAME:PDT
DTSTART:20250309T100000
END:DAYLIGHT
BEGIN:STANDARD
TZOFFSETFROM:-0700
TZOFFSETTO:-0800
TZNAME:PST
DTSTART:20251102T090000
END:STANDARD
BEGIN:DAYLIGHT
TZOFFSETFROM:-0800
TZOFFSETTO:-0700
TZNAME:PDT
DTSTART:20260308T100000
END:DAYLIGHT
BEGIN:STANDARD
TZOFFSETFROM:-0700
TZOFFSETTO:-0800
TZNAME:PST
DTSTART:20261101T090000
END:STANDARD
BEGIN:DAYLIGHT
TZOFFSETFROM:-0800
TZOFFSETTO:-0700
TZNAME:PDT
DTSTART:20270314T100000
END:DAYLIGHT
BEGIN:STANDARD
TZOFFSETFROM:-0700
TZOFFSETTO:-0800
TZNAME:PST
DTSTART:20271107T090000
END:STANDARD
END:VTIMEZONE
BEGIN:VEVENT
DTSTART;VALUE=DATE:20260601
DTEND;VALUE=DATE:20260602
DTSTAMP:20260423T114645
CREATED:20250819T214346Z
LAST-MODIFIED:20250819T214346Z
UID:10000345-1780272000-1780358399@www.holytrinityschoolelcajon.com
SUMMARY:8th Grade BOB Cards/Birthdays
DESCRIPTION:
URL:https://www.holytrinityschoolelcajon.com/event/8th-grade-bob-cards-birthdays-5
END:VEVENT
BEGIN:VEVENT
DTSTART;VALUE=DATE:20260601
DTEND;VALUE=DATE:20260602
DTSTAMP:20260423T114645
CREATED:20250819T220214Z
LAST-MODIFIED:20250819T220214Z
UID:10000357-1780272000-1780358399@www.holytrinityschoolelcajon.com
SUMMARY:Disciple of Christ Recognition
DESCRIPTION:
URL:https://www.holytrinityschoolelcajon.com/event/disciple-of-christ-recognition-10
END:VEVENT
BEGIN:VEVENT
DTSTART;TZID=America/Los_Angeles:20260601T080000
DTEND;TZID=America/Los_Angeles:20260601T080000
DTSTAMP:20260423T114645
CREATED:20250818T203507Z
LAST-MODIFIED:20250819T154959Z
UID:10000269-1780300800-1780300800@www.holytrinityschoolelcajon.com
SUMMARY:Assembly
DESCRIPTION:
URL:https://www.holytrinityschoolelcajon.com/event/assembly-5/2026-06-01
END:VEVENT
BEGIN:VEVENT
DTSTART;TZID=America/Los_Angeles:20260601T103000
DTEND;TZID=America/Los_Angeles:20260601T103000
DTSTAMP:20260423T114645
CREATED:20250822T145959Z
LAST-MODIFIED:20250822T145959Z
UID:10000617-1780309800-1780309800@www.holytrinityschoolelcajon.com
SUMMARY:Field Day
DESCRIPTION:
URL:https://www.holytrinityschoolelcajon.com/event/field-day-2
END:VEVENT
BEGIN:VEVENT
DTSTART;TZID=America/Los_Angeles:20260601T124500
DTEND;TZID=America/Los_Angeles:20260601T124500
DTSTAMP:20260423T114645
CREATED:20250822T150216Z
LAST-MODIFIED:20250822T150216Z
UID:10000618-1780317900-1780317900@www.holytrinityschoolelcajon.com
SUMMARY:Movie
DESCRIPTION:
URL:https://www.holytrinityschoolelcajon.com/event/movie-2
END:VEVENT
END:VCALENDAR